BEGIN:VCALENDAR
VERSION:2.0
PRODID:-//Maguel - ECPv6.15.20//NONSGML v1.0//EN
CALSCALE:GREGORIAN
METHOD:PUBLISH
X-WR-CALNAME:Maguel
X-ORIGINAL-URL:https://www.maguel.at
X-WR-CALDESC:Veranstaltungen für Maguel
REFRESH-INTERVAL;VALUE=DURATION:PT1H
X-Robots-Tag:noindex
X-PUBLISHED-TTL:PT1H
BEGIN:VTIMEZONE
TZID:Europe/Vienna
BEGIN:DAYLIGHT
TZOFFSETFROM:+0100
TZOFFSETTO:+0200
TZNAME:CEST
DTSTART:20250330T010000
END:DAYLIGHT
BEGIN:STANDARD
TZOFFSETFROM:+0200
TZOFFSETTO:+0100
TZNAME:CET
DTSTART:20251026T010000
END:STANDARD
BEGIN:DAYLIGHT
TZOFFSETFROM:+0100
TZOFFSETTO:+0200
TZNAME:CEST
DTSTART:20260329T010000
END:DAYLIGHT
BEGIN:STANDARD
TZOFFSETFROM:+0200
TZOFFSETTO:+0100
TZNAME:CET
DTSTART:20261025T010000
END:STANDARD
BEGIN:DAYLIGHT
TZOFFSETFROM:+0100
TZOFFSETTO:+0200
TZNAME:CEST
DTSTART:20270328T010000
END:DAYLIGHT
BEGIN:STANDARD
TZOFFSETFROM:+0200
TZOFFSETTO:+0100
TZNAME:CET
DTSTART:20271031T010000
END:STANDARD
END:VTIMEZONE
BEGIN:VEVENT
DTSTART;TZID=Europe/Vienna:20260714T090000
DTEND;TZID=Europe/Vienna:20260714T120000
DTSTAMP:20260426T012540
CREATED:20251206T103138Z
LAST-MODIFIED:20251206T103138Z
UID:3824-1784019600-1784030400@www.maguel.at
SUMMARY:Zauberworkshop
DESCRIPTION:
URL:https://www.maguel.at/aktuell/zauberworkshop-4/
LOCATION:Kuddelmuddel Theater\, Langgasse 13\, Linz\, Oberösterreich\, 4020\, Austria
CATEGORIES:Öffentlicher Auftritt
ORGANIZER;CN="Kuddelmuddel Theater":MAILTO:0732 600444
END:VEVENT
END:VCALENDAR